BEGIN:VCALENDAR
VERSION:2.0
PRODID:-//AHA Bayern | The Science Communication Hub //NONSGML Events //EN
CALSCALE:GREGORIAN
X-WR-CALNAME:AHA Bayern | The Science Communication Hub
BEGIN:VEVENT
CREATED:20251212T082247Z
UID:7113
DTEND;TZID=Europe/Berlin:20260517T000000Z
DTSTART;TZID=Europe/Berlin:20251217T000000Z
DTSTAMP:20260424T145623Z
LOCATION:Museum Mineralogia München, Theresienstr. 41 (Eing. Marianne-v.-Werefkin-Weg), 80333 München
DESCRIPTION:
SUMMARY:Alchemie der Zeit
ORGANIZER:AHA Bayern | The Science Communication Hub
URL;VALUE=URI:https://snsb.de/termin/alchemie-der-zeit/
TRANSP:OPAQUE
END:VEVENT
END:VCALENDAR