BEGIN:VCALENDAR
VERSION:2.0
PRODID:-//AHA Bayern | The Science Communication Hub //NONSGML Events //EN
CALSCALE:GREGORIAN
X-WR-CALNAME:AHA Bayern | The Science Communication Hub
BEGIN:VEVENT
CREATED:20260121T100920Z
UID:7366
DTEND;TZID=Europe/Berlin:20260531T000000Z
DTSTART;TZID=Europe/Berlin:20260213T000000Z
DTSTAMP:20260425T152813Z
LOCATION:Architekturmuseum der TUM in der Pinakothek der Moderne, Barer Straße 40, 80333 München
DESCRIPTION:Besuchen Sie die Ausstellung unseres Architekturmuseums zum vielseitigen Begriff der Reflexion.
SUMMARY:Ausstellung: Reflexion – Licht Spiegel Transparenz
ORGANIZER:AHA Bayern | The Science Communication Hub
URL;VALUE=URI:https://www.tum.de/aktuelles/veranstaltungen/details/ausstellung-reflexion-licht-spiegel-transparenz
TRANSP:OPAQUE
END:VEVENT
END:VCALENDAR