BEGIN:VCALENDAR
VERSION:2.0
PRODID:-//AHA Bayern | The Science Communication Hub //NONSGML Events //EN
CALSCALE:GREGORIAN
X-WR-CALNAME:AHA Bayern | The Science Communication Hub
BEGIN:VEVENT
CREATED:20260130T084205Z
UID:7413
DTEND;TZID=Europe/Berlin:20260503T000000Z
DTSTART;TZID=Europe/Berlin:20260129T000000Z
DTSTAMP:20260424T161521Z
LOCATION:Jura-Museum Eichstätt, Burgstraße 19, 85072 Eichstätt
DESCRIPTION:
SUMMARY:Neuer Raubsaurier aus Ellingen
ORGANIZER:AHA Bayern | The Science Communication Hub
URL;VALUE=URI:https://snsb.de/termin/neuer-raubsaurier-aus-ellingen/
TRANSP:OPAQUE
END:VEVENT
END:VCALENDAR