BEGIN:VCALENDAR
VERSION:2.0
PRODID:-//AHA Bayern | The Science Communication Hub //NONSGML Events //EN
CALSCALE:GREGORIAN
X-WR-CALNAME:AHA Bayern | The Science Communication Hub
BEGIN:VEVENT
CREATED:20260130T082741Z
UID:7419
DTEND;TZID=Europe/Berlin:20260426T110000Z
DTSTART;TZID=Europe/Berlin:20260426T100000Z
DTSTAMP:20260423T133758Z
LOCATION:Botanischer Garten München-Nymphenburg, Menzinger Str. 65, 80638 München
DESCRIPTION:
SUMMARY:Vielfalt der Palmen
ORGANIZER:AHA Bayern | The Science Communication Hub
URL;VALUE=URI:https://botmuc.snsb.de/termin/vielfalt-der-palmen/
TRANSP:OPAQUE
END:VEVENT
END:VCALENDAR