BEGIN:VCALENDAR
VERSION:2.0
PRODID:-//AHA Bayern | The Science Communication Hub //NONSGML Events //EN
CALSCALE:GREGORIAN
X-WR-CALNAME:AHA Bayern | The Science Communication Hub
BEGIN:VEVENT
CREATED:20260209T055531Z
UID:7506
DTEND;TZID=Europe/Berlin:20260429T220000Z
DTSTART;TZID=Europe/Berlin:20260429T120000Z
DTSTAMP:20260424T152721Z
LOCATION:Campus Garching, Boltzmannstraße 15, 85748 Garching bei München
DESCRIPTION:
SUMMARY:TUM Sustainability Day
ORGANIZER:AHA Bayern | The Science Communication Hub
URL;VALUE=URI:https://www.tum.de/aktuelles/veranstaltungen/details/tum-sustainability-day-2026
TRANSP:OPAQUE
END:VEVENT
END:VCALENDAR