BEGIN:VCALENDAR
VERSION:2.0
PRODID:-//AHA Bayern | The Science Communication Hub //NONSGML Events //EN
CALSCALE:GREGORIAN
X-WR-CALNAME:AHA Bayern | The Science Communication Hub
BEGIN:VEVENT
CREATED:20260209T151334Z
UID:7531
DTEND;TZID=Europe/Berlin:20260428T183000Z
DTSTART;TZID=Europe/Berlin:20260428T170000Z
DTSTAMP:20260424T133403Z
LOCATION:Hochschule München, Dachauer Str. 100a, Raum T 0.020, 80636 München
DESCRIPTION:Ringvorlesung FK13 „Zeiten der Extreme“
SUMMARY:Vergessene Opfer, fehlende Konsequenzen, Kämpfe um Erinnern
ORGANIZER:AHA Bayern | The Science Communication Hub
URL;VALUE=URI:https://www.hm.edu//aktuelles/veranstaltungen/veranstaltung_detailseite_494145.de.html
TRANSP:OPAQUE
END:VEVENT
END:VCALENDAR