BEGIN:VCALENDAR
VERSION:2.0
PRODID:-//AHA Bayern | The Science Communication Hub //NONSGML Events //EN
CALSCALE:GREGORIAN
X-WR-CALNAME:AHA Bayern | The Science Communication Hub
BEGIN:VEVENT
CREATED:20260209T154230Z
UID:7580
DTEND;TZID=Europe/Berlin:20260428T000000Z
DTSTART;TZID=Europe/Berlin:20260428T183000Z
DTSTAMP:20260422T151824Z
LOCATION:Qlibri GmbH, Schellingstraße 4, 80799 München
DESCRIPTION:Wie lässt man Licht und Materie effizient und punktgenau miteinander wechselwirken? Besucht am 28. April das Start-up Qlibri und erfahrt in einem spannenden Vortrag mit anschließender Laborführung mehr über Qlibris Ansatz für ultrasensitive Mikroskopiemethoden und die Entwicklung von Komponenten, die in verschiedenen Quantentechnologien Einsatz finden.
SUMMARY:MQV-Einblicke: Quantenoptik trifft Mikroskopie
ORGANIZER:AHA Bayern | The Science Communication Hub
URL;VALUE=URI:https://www.munich-quantum-valley.de/de/neuigkeiten/veranstaltung/mqv-einblicke-28apr26
TRANSP:OPAQUE
END:VEVENT
END:VCALENDAR