BEGIN:VCALENDAR
VERSION:2.0
PRODID:-//AHA Bayern | The Science Communication Hub //NONSGML Events //EN
CALSCALE:GREGORIAN
X-WR-CALNAME:AHA Bayern | The Science Communication Hub
BEGIN:VEVENT
CREATED:20260219T083109Z
UID:7722
DTEND;TZID=Europe/Berlin:20260429T174500Z
DTSTART;TZID=Europe/Berlin:20260429T163000Z
DTSTAMP:20260424T164328Z
LOCATION:Universität der Bundeswehr, Wache Westtor, Kreuzung Universitätsstraße / Zwergerstraße, 85579 Neubiberg
DESCRIPTION:Bei dieser Kinderuni-Veranstaltung sitzen wir nicht im Hörsaal, sondern spazieren selbst über den Campus und schauen uns an, wie die Soldatinnen und Soldaten hier leben, lernen, arbeiten...
SUMMARY:Kinderuni-Campusspaziergang: Wie studieren Soldatinnen und Soldaten?
ORGANIZER:AHA Bayern | The Science Communication Hub
URL;VALUE=URI:https://www.unibw.de/home/veranstaltungen/zentrale-termine/kinderuni-campusspaziergang-wie-studieren-soldatinnen-und-soldaten
TRANSP:OPAQUE
END:VEVENT
END:VCALENDAR