BEGIN:VCALENDAR
VERSION:2.0
PRODID:-//AHA Bayern | The Science Communication Hub //NONSGML Events //EN
CALSCALE:GREGORIAN
X-WR-CALNAME:AHA Bayern | The Science Communication Hub
BEGIN:VEVENT
CREATED:20260324T091807Z
UID:7775
DTEND;TZID=Europe/Berlin:20260430T130000Z
DTSTART;TZID=Europe/Berlin:20260429T123000Z
DTSTAMP:20260424T164040Z
LOCATION:Akademie für Politische Bildung, Buchensee 1, 82327 Tutzing
DESCRIPTION:
SUMMARY:Homo digitalis – Mensch und Gesellschaft in der digitalen Transformation
ORGANIZER:AHA Bayern | The Science Communication Hub
URL;VALUE=URI:https://www.acatech.de/termin/homo-digitalis/
TRANSP:OPAQUE
END:VEVENT
END:VCALENDAR