BEGIN:VCALENDAR
VERSION:2.0
PRODID:-//AHA Bayern | The Science Communication Hub //NONSGML Events //EN
CALSCALE:GREGORIAN
X-WR-CALNAME:AHA Bayern | The Science Communication Hub
BEGIN:VEVENT
CREATED:20260227T060246Z
UID:7799
DTEND;TZID=Europe/Berlin:20260423T143000Z
DTSTART;TZID=Europe/Berlin:20260423T090000Z
DTSTAMP:20260422T133443Z
LOCATION:ZNN Zentrum für Nanotechnologie und Nanomaterialien, Walter Schottky Institut, Am Coulombwall 4a, 85748 Garching b. München
DESCRIPTION:Auch in diesem Jahr nimmt das Munich Quantum Valley wieder am Girls&#039;Day teil und gibt gemeinsam mit dem Zentrum für Nanotechnologie und Nanomaterialien des Walter Schottky Institus einer Gruppe von Mädchen die Gelegenheit, Berufe in den Naturwissenschaften kennenzulernen. In diesem Jahr lernen sie dabei, wie die dünnsten Materialien der Welt hergestellt werden und welche Rolle die Quantenphysik bei der Entwicklung neuer Materialien spielt.
SUMMARY:MQV-Girls’Day 2026: Die Welt der Quantenmaterialien entdecken
ORGANIZER:AHA Bayern | The Science Communication Hub
URL;VALUE=URI:https://www.munich-quantum-valley.de/de/neuigkeiten/veranstaltung/mqv-girlsday-2026
TRANSP:OPAQUE
END:VEVENT
END:VCALENDAR