BEGIN:VCALENDAR
VERSION:2.0
PRODID:-//AHA Bayern | The Science Communication Hub //NONSGML Events //EN
CALSCALE:GREGORIAN
X-WR-CALNAME:AHA Bayern | The Science Communication Hub
BEGIN:VEVENT
CREATED:20260302T075503Z
UID:7806
DTEND;TZID=Europe/Berlin:20261231T000000Z
DTSTART;TZID=Europe/Berlin:20241216T000000Z
DTSTAMP:20260420T151428Z
LOCATION:LMU, Hochschulambulanz, Institut für Infektions- und Tropenmedizin, Leopoldstraße 5, 80802 München
DESCRIPTION:
SUMMARY:Ausstellung: New Face for Leprosy
ORGANIZER:AHA Bayern | The Science Communication Hub
URL;VALUE=URI:https://www.lmu.de/de/newsroom/veranstaltungskalender/veranstaltung/ausstellung-new-face-for-leprosy-aab6779c.html
TRANSP:OPAQUE
END:VEVENT
END:VCALENDAR