BEGIN:VCALENDAR
VERSION:2.0
PRODID:-//AHA Bayern | The Science Communication Hub //NONSGML Events //EN
CALSCALE:GREGORIAN
X-WR-CALNAME:AHA Bayern | The Science Communication Hub
BEGIN:VEVENT
CREATED:20260302T090432Z
UID:7818
DTEND;TZID=Europe/Berlin:20260703T000000Z
DTSTART;TZID=Europe/Berlin:20260116T000000Z
DTSTAMP:20260420T140617Z
LOCATION:LMU Lernzentrum, Geschwister-Scholl-Platz 1, 80539 München
DESCRIPTION:
SUMMARY:Ausstellung: Die Bleiletternsammlung von Josef Gruber
ORGANIZER:AHA Bayern | The Science Communication Hub
URL;VALUE=URI:https://www.lmu.de/de/newsroom/veranstaltungskalender/veranstaltung/ausstellung-die-bleiletternsammlung-von-josef-gruber-5b43252d.html
TRANSP:OPAQUE
END:VEVENT
END:VCALENDAR