BEGIN:VCALENDAR
VERSION:2.0
PRODID:-//AHA Bayern | The Science Communication Hub //NONSGML Events //EN
CALSCALE:GREGORIAN
X-WR-CALNAME:AHA Bayern | The Science Communication Hub
BEGIN:VEVENT
CREATED:20260302T090925Z
UID:7849
DTEND;TZID=Europe/Berlin:20260628T000000Z
DTSTART;TZID=Europe/Berlin:20260316T000000Z
DTSTAMP:20260420T152331Z
LOCATION:LMU, Universitätsbibliothek (Erdgeschoss), Geschwister-Scholl-Platz 1, 80539 München
DESCRIPTION:
SUMMARY:Ausstellung: Die Blockbücher der Universitätsbibliothek München
ORGANIZER:AHA Bayern | The Science Communication Hub
URL;VALUE=URI:https://www.lmu.de/de/newsroom/veranstaltungskalender/veranstaltung/ausstellung-die-blockbuecher-der-universitaetsbibliothek-muenchen-0faed10d.html
TRANSP:OPAQUE
END:VEVENT
END:VCALENDAR