BEGIN:VCALENDAR
VERSION:2.0
PRODID:-//AHA Bayern | The Science Communication Hub //NONSGML Events //EN
CALSCALE:GREGORIAN
X-WR-CALNAME:AHA Bayern | The Science Communication Hub
BEGIN:VEVENT
CREATED:20260302T085841Z
UID:7858
DTEND;TZID=Europe/Berlin:20260429T000000Z
DTSTART;TZID=Europe/Berlin:20260429T180000Z
DTSTAMP:20260424T151814Z
LOCATION:LMU-Hauptgebäude (Raum A 125), Geschwister-Scholl-Platz 1, 80539 München
DESCRIPTION:
SUMMARY:Where Did the Future Go? Urban Planning and Environmentalism Then and Now
ORGANIZER:AHA Bayern | The Science Communication Hub
URL;VALUE=URI:https://www.lmu.de/de/newsroom/veranstaltungskalender/veranstaltung/where-did-the-future-go-urban-planning-and-environmentalism-then-and-now-f4199e43.html
TRANSP:OPAQUE
END:VEVENT
END:VCALENDAR