BEGIN:VCALENDAR
VERSION:2.0
PRODID:-//AHA Bayern | The Science Communication Hub //NONSGML Events //EN
CALSCALE:GREGORIAN
X-WR-CALNAME:AHA Bayern | The Science Communication Hub
BEGIN:VEVENT
CREATED:20260304T091521Z
UID:7936
DTEND;TZID=Europe/Berlin:20260424T160000Z
DTSTART;TZID=Europe/Berlin:20260424T150000Z
DTSTAMP:20260423T134042Z
LOCATION:Museum Mensch und Natur, Schloss Nymphenburg, 80638 München
DESCRIPTION:
SUMMARY:Wegwerfen war gestern – Wir denken rund
ORGANIZER:AHA Bayern | The Science Communication Hub
URL;VALUE=URI:https://mmn-muenchen.snsb.de/termin/wegwerfen-war-gestern-wir-denken-rund/
TRANSP:OPAQUE
END:VEVENT
END:VCALENDAR