BEGIN:VCALENDAR
VERSION:2.0
PRODID:-//AHA Bayern | The Science Communication Hub //NONSGML Events //EN
CALSCALE:GREGORIAN
X-WR-CALNAME:AHA Bayern | The Science Communication Hub
BEGIN:VEVENT
CREATED:20260310T112214Z
UID:8040
DTEND;TZID=Europe/Berlin:20260426T000000Z
DTSTART;TZID=Europe/Berlin:20260426T111500Z
DTSTAMP:20260422T151758Z
LOCATION:LMU, Ev. Universitätskirche St. Markus, Gabelsbergerstr. 6, 80333 München
DESCRIPTION:
SUMMARY:Universitätsgottesdienst: Wunder der Wissenschaft – „Biophysik“
ORGANIZER:AHA Bayern | The Science Communication Hub
URL;VALUE=URI:https://www.lmu.de/de/newsroom/veranstaltungskalender/veranstaltung/universitaetsgottesdienst-wunder-der-wissenschaft-biophysik-39793232.html
TRANSP:OPAQUE
END:VEVENT
END:VCALENDAR