BEGIN:VCALENDAR
VERSION:2.0
PRODID:-//AHA Bayern | The Science Communication Hub //NONSGML Events //EN
CALSCALE:GREGORIAN
X-WR-CALNAME:AHA Bayern | The Science Communication Hub
BEGIN:VEVENT
CREATED:20260310T084138Z
UID:8042
DTEND;TZID=Europe/Berlin:20260428T000000Z
DTSTART;TZID=Europe/Berlin:20260428T200000Z
DTSTAMP:20260425T140742Z
LOCATION:Lyrik Kabinett, Amalienstraße 83a (Rückgebäude), 80799 München
DESCRIPTION:
SUMMARY:Lyrik Kabinett: Poetry in Motion
ORGANIZER:AHA Bayern | The Science Communication Hub
URL;VALUE=URI:https://www.lmu.de/de/newsroom/veranstaltungskalender/veranstaltung/lyrik-kabinett-poetry-in-motion-39b320af.html
TRANSP:OPAQUE
END:VEVENT
END:VCALENDAR