BEGIN:VCALENDAR
VERSION:2.0
PRODID:-//AHA Bayern | The Science Communication Hub //NONSGML Events //EN
CALSCALE:GREGORIAN
X-WR-CALNAME:AHA Bayern | The Science Communication Hub
BEGIN:VEVENT
CREATED:20260312T064405Z
UID:8069
DTEND;TZID=Europe/Berlin:20260426T170000Z
DTSTART;TZID=Europe/Berlin:20260426T160000Z
DTSTAMP:20260424T132109Z
LOCATION:Botanischer Garten München-Nymphenburg, Menzinger Str. 65, 80638 München
DESCRIPTION:
SUMMARY:The World of Orchids
ORGANIZER:AHA Bayern | The Science Communication Hub
URL;VALUE=URI:https://botmuc.snsb.de/termin/the-world-of-orchids-in-english/
TRANSP:OPAQUE
END:VEVENT
END:VCALENDAR