BEGIN:VCALENDAR
VERSION:2.0
PRODID:-//AHA Bayern | The Science Communication Hub //NONSGML Events //EN
CALSCALE:GREGORIAN
X-WR-CALNAME:AHA Bayern | The Science Communication Hub
BEGIN:VEVENT
CREATED:20260319T124420Z
UID:8149
DTEND;TZID=Europe/Berlin:20260423T203000Z
DTSTART;TZID=Europe/Berlin:20260423T190000Z
DTSTAMP:20260420T183724Z
LOCATION:Bayerische Akademie der Wissenschaften, Plenarsaal, Alfons-Goppel-Str. 11, 80539 München
DESCRIPTION:
SUMMARY:Gemalte Himmel: 10 Jahre Corpus der barocken Deckenmalerei
ORGANIZER:AHA Bayern | The Science Communication Hub
URL;VALUE=URI:https://badw.de/veranstaltungen.html?tx_badwdb_events%5Baction%5D=show&#038;tx_badwdb_events%5Bcontroller%5D=Events&#038;tx_badwdb_events%5Bevent_id%5D=997&#038;cHash=eeef3f386896c4f333b15b5b690cfe7b
TRANSP:OPAQUE
END:VEVENT
END:VCALENDAR