BEGIN:VCALENDAR
VERSION:2.0
PRODID:-//AHA Bayern | The Science Communication Hub //NONSGML Events //EN
CALSCALE:GREGORIAN
X-WR-CALNAME:AHA Bayern | The Science Communication Hub
BEGIN:VEVENT
CREATED:20260319T125544Z
UID:8156
DTEND;TZID=Europe/Berlin:20260422T160000Z
DTSTART;TZID=Europe/Berlin:20260422T140000Z
DTSTAMP:20260420T124447Z
LOCATION:online
DESCRIPTION:Digitale Tagung der Fachgruppe Bildung für nachhaltige Entwicklung (BNE) im Bundesverband Museumspädagogik e.V für Museumspädagoginnen und -pädagogen, Vermittelnde, Lehrkräfte, Multiplikatorinnen und Multiplikatoren sowie Studierende.
SUMMARY:BNE und Demokratiebildung in der Museumspädagogik
ORGANIZER:AHA Bayern | The Science Communication Hub
URL;VALUE=URI:https://mmn-muenchen.snsb.de/termin/bne-tagung_online/
TRANSP:OPAQUE
END:VEVENT
END:VCALENDAR