BEGIN:VCALENDAR
VERSION:2.0
PRODID:-//AHA Bayern | The Science Communication Hub //NONSGML Events //EN
CALSCALE:GREGORIAN
X-WR-CALNAME:AHA Bayern | The Science Communication Hub
BEGIN:VEVENT
CREATED:20260320T105154Z
UID:8265
DTEND;TZID=Europe/Berlin:20260426T123000Z
DTSTART;TZID=Europe/Berlin:20260426T111500Z
DTSTAMP:20260422T151905Z
LOCATION:Deutsches Museum, Museumsinsel 1, 80538 München
DESCRIPTION:Der Kempelen&#039;sche Sprechapparat: Information zum vermutlich ältesten Sprechapparat der Welt und Präsentation des originalgetreuen Nachbaus.
SUMMARY:Vorläufer von Siri
ORGANIZER:AHA Bayern | The Science Communication Hub
URL;VALUE=URI:https://www.deutsches-museum.de/museumsinsel/programm/veranstaltung/vorlaeufer-von-siri-der-kempelensche-sprechapparat
TRANSP:OPAQUE
END:VEVENT
END:VCALENDAR