BEGIN:VCALENDAR
VERSION:2.0
PRODID:-//AHA Bayern | The Science Communication Hub //NONSGML Events //EN
CALSCALE:GREGORIAN
X-WR-CALNAME:AHA Bayern | The Science Communication Hub
BEGIN:VEVENT
CREATED:20260406T112520Z
UID:8510
DTEND;TZID=Europe/Berlin:20261004T000000Z
DTSTART;TZID=Europe/Berlin:20250314T000000Z
DTSTAMP:20260422T170434Z
LOCATION:RiesKraterMuseum , Eugene-Shoemaker-Platz 1, 86720 Nördlingen
DESCRIPTION:
SUMMARY:Steinige Wege zum Leben
ORGANIZER:AHA Bayern | The Science Communication Hub
URL;VALUE=URI:https://snsb.de/termin/steinige-wege-zum-leben/
TRANSP:OPAQUE
END:VEVENT
END:VCALENDAR