BEGIN:VCALENDAR
VERSION:2.0
PRODID:-//AHA Bayern | The Science Communication Hub //NONSGML Events //EN
CALSCALE:GREGORIAN
X-WR-CALNAME:AHA Bayern | The Science Communication Hub
BEGIN:VEVENT
CREATED:20260406T113028Z
UID:8522
DTEND;TZID=Europe/Berlin:20260423T130000Z
DTSTART;TZID=Europe/Berlin:20260423T100000Z
DTSTAMP:20260422T133850Z
LOCATION:Bionicum Nürnberg, Am Tiergarten 30, 90480 Nürnberg
DESCRIPTION:
SUMMARY:Girls’Day 2026 im Bionicum: „Bau dich schlau“
ORGANIZER:AHA Bayern | The Science Communication Hub
URL;VALUE=URI:https://snsb.de/termin/girlsday-2026-workshop-bau-dich-schlau/
TRANSP:OPAQUE
END:VEVENT
END:VCALENDAR