BEGIN:VCALENDAR
VERSION:2.0
PRODID:-//AHA Bayern | The Science Communication Hub //NONSGML Events //EN
CALSCALE:GREGORIAN
X-WR-CALNAME:AHA Bayern | The Science Communication Hub
BEGIN:VEVENT
CREATED:20260406T111417Z
UID:8524
DTEND;TZID=Europe/Berlin:20260427T000000Z
DTSTART;TZID=Europe/Berlin:20260424T000000Z
DTSTAMP:20260423T133736Z
LOCATION:Bionicum Nürnberg, Am Tiergarten 30, 90480 Nürnberg
DESCRIPTION:
SUMMARY:City Nature Challenge 2026
ORGANIZER:AHA Bayern | The Science Communication Hub
URL;VALUE=URI:https://snsb.de/termin/city-nature-challenge-2026/
TRANSP:OPAQUE
END:VEVENT
END:VCALENDAR