BEGIN:VCALENDAR
VERSION:2.0
PRODID:-//AHA Bayern | The Science Communication Hub //NONSGML Events //EN
CALSCALE:GREGORIAN
X-WR-CALNAME:AHA Bayern | The Science Communication Hub
BEGIN:VEVENT
CREATED:20260407T110517Z
UID:8567
DTEND;TZID=Europe/Berlin:20260424T160000Z
DTSTART;TZID=Europe/Berlin:20260424T150000Z
DTSTAMP:20260423T133856Z
LOCATION:Treffpunkt: U-Bahn Neuperlach Zentrum, 81737 München
DESCRIPTION:
SUMMARY:City Soundscapes: Hörspaziergang
ORGANIZER:AHA Bayern | The Science Communication Hub
URL;VALUE=URI:https://www.citysoundscapes.de/soundwalks
TRANSP:OPAQUE
END:VEVENT
END:VCALENDAR