BEGIN:VCALENDAR
VERSION:2.0
PRODID:-//AHA Bayern | The Science Communication Hub //NONSGML Events //EN
CALSCALE:GREGORIAN
X-WR-CALNAME:AHA Bayern | The Science Communication Hub
BEGIN:VEVENT
CREATED:20260415T084111Z
UID:8662
DTEND;TZID=Europe/Berlin:20260422T174500Z
DTSTART;TZID=Europe/Berlin:20260422T161500Z
DTSTAMP:20260420T135906Z
LOCATION:LMU, Hörsaal A 140, Geschwister-Scholl-Platz 1, 80539 München
DESCRIPTION:
SUMMARY:Die doppelte Translokation der Universität
ORGANIZER:AHA Bayern | The Science Communication Hub
URL;VALUE=URI:https://www.lmu.de/de/newsroom/veranstaltungskalender/veranstaltung/die-doppelte-translokation-der-universitaet-2588a73f.html
TRANSP:OPAQUE
END:VEVENT
END:VCALENDAR