BEGIN:VCALENDAR
VERSION:2.0
PRODID:-//AHA Bayern | The Science Communication Hub //NONSGML Events //EN
CALSCALE:GREGORIAN
X-WR-CALNAME:AHA Bayern | The Science Communication Hub
BEGIN:VEVENT
CREATED:20260415T082933Z
UID:8666
DTEND;TZID=Europe/Berlin:20260429T174500Z
DTSTART;TZID=Europe/Berlin:20260429T161500Z
DTSTAMP:20260424T151429Z
LOCATION:LMU, Hörsaal A 140, Geschwister-Scholl-Platz 1, 80539 München
DESCRIPTION:
SUMMARY:Die Verwicklung der Universität in die Revolution von 1848
ORGANIZER:AHA Bayern | The Science Communication Hub
URL;VALUE=URI:https://www.lmu.de/de/newsroom/veranstaltungskalender/veranstaltung/die-verwicklung-der-universitaet-in-die-revolution-von-1848-53b60352.html
TRANSP:OPAQUE
END:VEVENT
END:VCALENDAR