BEGIN:VCALENDAR
VERSION:2.0
PRODID:-//AHA Bayern | The Science Communication Hub //NONSGML Events //EN
CALSCALE:GREGORIAN
X-WR-CALNAME:AHA Bayern | The Science Communication Hub
BEGIN:VEVENT
CREATED:20260417T065749Z
UID:8716
DTEND;TZID=Europe/Berlin:20260429T174500Z
DTSTART;TZID=Europe/Berlin:20260429T161500Z
DTSTAMP:20260422T151758Z
LOCATION:LMU Hauptgebäude, Geschwister-Scholl-Platz 1 80539 München
DESCRIPTION:
SUMMARY:Die Rolle von Daten im Zeitalter von KI
ORGANIZER:AHA Bayern | The Science Communication Hub
URL;VALUE=URI:https://www.lmu.de/de/newsroom/veranstaltungskalender/veranstaltung/die-rolle-von-daten-im-zeitalter-von-ki-1d5fc54b.html
TRANSP:OPAQUE
END:VEVENT
END:VCALENDAR