BEGIN:VCALENDAR
VERSION:2.0
PRODID:-//AHA Bayern | The Science Communication Hub //NONSGML Events //EN
CALSCALE:GREGORIAN
X-WR-CALNAME:AHA Bayern | The Science Communication Hub
BEGIN:VEVENT
CREATED:20260424T073907Z
UID:8787
DTEND;TZID=Europe/Berlin:20260426T000000Z
DTSTART;TZID=Europe/Berlin:20260426T160000Z
DTSTAMP:20260424T133640Z
LOCATION:Botanischer Garten München-Nymphenburg, Menzinger Str. 65, 80638 München
DESCRIPTION:
SUMMARY:Finissage und Künstlergespräch mit Werner Henkel
ORGANIZER:AHA Bayern | The Science Communication Hub
URL;VALUE=URI:https://botmuc.snsb.de/termin/finisage-und-kuenstlergespraech-mit-werner-henkel/
TRANSP:OPAQUE
END:VEVENT
END:VCALENDAR